{"text_format":"1","workbook":"xlsx","n_sheets":5,"sheets":["共同利用申請書","別表１、３","共同利用承認書","使用簿（管理責任者用）","管理表転記用"],"not_rendered":{"charts":0,"images":0,"macros":1,"external_links":0,"defined_names":5,"comments":2,"pivot_tables":0},"unopened":[],"bounds":{"document_bytes":16777216,"sheet_cells":100000,"rows_first":2000,"rows_last":500,"rows_between":2000,"halvings":0,"cell_chars":16384,"cell_head_chars":4096},"cells_cut":0,"cells_raw":0,"read":"whole","date_system":"1900"}

{"sheet":"共同利用申請書","index":0,"n_rows":33,"n_cols":17,"rows_kept":33,"cut":false,"hidden":false,"merged":[[20,12,20,13],[20,15,20,16],[24,1,24,4],[25,9,25,10],[25,12,25,13],[22,2,22,3],[22,5,22,10],[20,9,20,10],[19,1,19,4],[25,2,25,3],[25,5,25,6],[25,7,25,8],[20,2,20,3],[20,5,20,7],[21,1,21,5],[21,7,21,10],[29,1,29,5],[29,6,29,8],[29,9,29,12],[29,13,29,16],[19,5,19,6],[19,7,19,10],[19,11,19,12],[19,13,19,16],[27,1,27,5],[27,6,27,8],[27,9,27,12],[27,13,27,16],[28,1,28,5],[28,6,28,8],[28,9,28,12],[28,13,28,16],[26,1,26,5],[26,6,26,8],[26,9,26,12],[26,13,26,16],[23,1,23,2],[23,12,23,13],[23,15,23,16],[25,15,25,16],[17,1,17,2],[17,3,17,8],[17,9,17,10],[17,11,17,16],[18,9,18,10],[18,2,18,3],[18,5,18,7],[16,1,16,3],[16,4,16,16],[18,12,18,16],[12,1,12,2],[12,3,12,8],[12,9,12,10],[12,11,12,16],[13,1,13,2],[13,3,13,4],[13,5,13,6],[13,7,13,16],[14,1,14,4],[14,5,14,6],[14,8,14,11],[14,12,14,13],[15,1,15,16],[10,1,10,7],[10,8,10,9],[10,10,10,16],[11,1,11,7],[11,8,11,9],[11,10,11,16],[1,0,1,16],[7,0,7,16],[8,1,8,2],[8,3,8,16],[9,1,9,2],[9,3,9,16]]}
["様式１（第４条関係）"]
["共同利用申請書"]
[]
[null,null,null,null,null,null,null,null,null,null,null,null,null,null,null,null,"　年　月　日"]
[]
["京都大学北部キャンパス機器分析拠点　拠点長　殿"]
[]
["京都大学北部キャンパス機器分析拠点が供する設備等の共同利用について、下記のとおり申請しますので、承認願います。なお、利用に際しては、京都大学北部キャンパス機器分析拠点共同利用規程を遵守します。"]
["所属機関","名 称"]
["又は組織等","住 所"]
["利用申請者",null,null,null,null,null,null,null,"職名"]
["電話番号",null,null,null,null,null,null,null,"ﾒｰﾙｱﾄﾞﾚｽ"]
["緊急連絡先","職 場",null,null,null,null,null,null,null,"自宅"]
["利用設備名","設備等番号",null,null,null,"設備等名称",null,{"$f":"VLOOKUP(D14,'別表１、３'!A6:B65,2,0)","v":{"$error":"#N/A"}}]
["利用期間",null,null,null,null,null,null,"～",null,null,null,null,null,null,"計",{"$f":"CEILING(M15-F15,\"1:00\")","v":"00:00:00"},"時間"]
["利用目的"]
["利用料請求先","住所・機関(部署)名・職名・氏名"]
["＊利用申請者と異なる場合のみ記載","電話番号",null,null,null,null,null,null,null,"ﾒｰﾙｱﾄﾞﾚｽ"]
["予算区分",null,"大学運営費",null,"（","ミッション実現加速化経費",null,null,null,"特殊要因経費",null,null,"その他【　　　　　　　　　　　　】"]
[null,"（北部内の利用者のみ記載）",null,null,null,"予算科目：",null,null,null,null,null,"予算部署："]
["＊学内者のみ記載",null,"寄附金",null,null,"科学研究費助成事業等",null,null,null,"受託研究等",null,null,"間接経費",null,null,"機関経理補助金"]
[null,"（外部資金の場合）ＰＪコード　",null,null,null,null,"【",null,null,null,null,"】"]
[null,null,"その他",null,"【",null,null,null,null,null,null,null,"】"]
["事前講習","受講希望日時",null,null,"年",null,"月",null,"日",null,"時","～"]
["＊初回時のみ記載  ","受講済の場合は受講年月日",null,null,null,null,"年",null,"月",null,"日"]
["技術補助等",null,"操作等の補助",null,null,"技術相談",null,"（補助者：",null,null,null,"）","（所要時間：",null,null,"時間）"]
["利用申請者","所属部署",null,null,null,null,"職名",null,null,"氏名",null,null,null,"連絡先"]
["以外の利用者"]
[]
[]
["利用申請にあたっての注意事項"]
["１．本申請書は、北部キャンパス機器分析拠点運営推進室へ提出してください。"]
["２．申請内容に変更が生じた場合は、速やかに北部キャンパス機器分析拠点運営推進室へ連絡してください。"]

{"sheet":"別表１、３","index":1,"n_rows":83,"n_cols":12,"rows_kept":83,"cut":false,"hidden":false,"merged":[[44,9,45,9],[74,0,74,1],[75,2,76,2],[2,5,3,5],[2,0,3,0],[2,1,3,1],[2,2,3,2],[2,3,3,3],[2,4,3,4],[2,6,2,8],[2,9,3,9],[39,1,40,1],[23,9,24,9],[25,9,26,9],[39,9,40,9]]}
["別表１.設備等の利用料金"]
[]
["設備等\n番号","設備等名称","メーカー名","設備等\n保有部局","利用単位","関数用","単価",null,null,"備考"]
[null,null,null,null,null,null,"第３条第１号に掲げる者","第３条第２号に掲げる者","第３条第３号に掲げる者"]
[null,null,null,null,null,"関数用","学内","学術機関","民間機関",null,null,"1回当たり\n(事前講習)"]
["S-1","クリーンルーム",null,"理学研究科","京都大学大学院理学研究科低温物質科学研究支援室共同利用規程の定めに従う"]
["S-2","高磁場高周波核磁気共鳴装置 JEOL ECA600","日本電子㈱","理学研究科"]
["S-3","設計システム・小型工具\n（3次元CADシステム、定盤、ドライバー等）","Dassault Systemes SolidWorks Corporation　他","理学研究科","京都大学大学院理学研究科技術部研究機器開発支援室共同利用規程の定めに従う"]
["S-4","工作機械（旋盤、フライス盤、ボール盤、マシニングセンタ、溶接機等）","㈱滝澤鉄工所　他","理学研究科"]
["S-5","放電加工機","三菱電機㈱　他","理学研究科"]
["S-6","熱造形3Dプリンター","エス.ラボ㈱","理学研究科"]
["S-7","光造形3Dプリンター","Formlabs社","理学研究科"]
["S-8","集束イオンビーム加工装置（FIB） Quanta 200 3DS","米国FEI社","理学研究科","1時間当たり\n(設備等利用)",{"$f":"A13&E13","v":"S-81時間当たり\n(設備等利用)"},2090,7580,17600]
["S-9","電界放出形透過電子顕微鏡（FE-TEM）  JEM-2100F","日本電子㈱","理学研究科","1時間当たり\n(設備等利用)",{"$f":"A14&E14","v":"S-91時間当たり\n(設備等利用)"},810,8390,20300]
["S-10","高磁場高周波核磁気共鳴装置　JNM-ECZ600R","日本電子㈱","理学研究科","1時間当たり\n(設備等利用)","S-101時間当たり\n(設備等利用)",870,7470,20600]
["S-11","波長分散型電子線マイクロアナライザ","日本電子㈱","理学研究科","1日当たり\n(設備等利用)",{"$f":"A16&E16","v":"S-111日当たり\n(設備等利用)"},6960,10800,105600]
["S-12","超解像顕微鏡　N-SIM-S+N-STORM","㈱ニコン","理学研究科","1時間当たり\n(設備等利用)","S-121時間当たり\n(設備等利用)",1500,3380,13400]
["S-13","レーザラマン分光光度計自動イメージングシステム　NRS-5100","日本分光㈱","理学研究科","1時間当たり\n(設備等利用)","S-131時間当たり\n(設備等利用)",1440,1860,8000]
[null,null,null,null,"1日当たり\n(設備等利用)",{"$f":"A18&E19","v":"S-131日当たり\n(設備等利用)"},11520,14880,64000]
["S-14","超高感度示差型カロリメータ　VP-DSCシステム","米国GEヘルスケア社","理学研究科","1日当たり\n(設備等利用)",{"$f":"A20&E20","v":"S-141日当たり\n(設備等利用)"},120,35280,122400]
["S-15","Ｘ線回折装置　RINT-UltimaⅢ/KPC","㈱リガク","理学研究科","1時間当たり\n(設備等利用)","S-151時間当たり\n(設備等利用)",130,530,2800]
[null,null,null,null,"1日当たり\n(設備等利用)",{"$f":"A21&E22","v":"S-151日当たり\n(設備等利用)"},1040,4240,22400]
["S-16","超高精度ESI-TOF MSシステム　microTOFⅡ-KSⅡ","独国ブルカー・ダルトニクス社","理学研究科","1時間当たり\n(設備等利用)",{"$f":"A23&E23","v":"S-161時間当たり\n(設備等利用)"},3870,10320,21100]
["S-17","粉末Ｘ線回折装置 SmartLab-SS","㈱リガク","理学研究科","1時間当たり\n(設備等利用)","S-171時間当たり\n(設備等利用)",510,null,null,"学内において放射線障害予防規程の教育訓練を受けた場合のみ利用可能。"]
[null,null,null,null,"1回当たり\n(事前講習)",{"$f":"A24&E25","v":"S-171回当たり\n(事前講習)"},510]
["S-18","ラマン顕微鏡 XploRA-ST","㈱堀場製作所","理学研究科","1時間当たり\n(設備等利用)",{"$f":"A26&E26","v":"S-181時間当たり\n(設備等利用)"},910,1790,5900]
[null,null,null,null,"1回当たり\n(事前講習)",{"$f":"A26&E27","v":"S-181回当たり\n(事前講習)"},910,1790,5900]
["S-19","マルチタイプICP発光分光分析装置　ICPE-9000","㈱島津製作所","理学研究科","1時間当たり\n(設備等利用)",{"$f":"A28&E28","v":"S-191時間当たり\n(設備等利用)"},1990,2940,5200]
["S-20","全身用X線CT診断装置　Alexion TSX-032A","東芝メディカルシステムズ㈱","理学研究科","1回当たり\n(設備等利用)",{"$f":"A29&E29","v":"S-201回当たり\n(設備等利用)"},4240,21400,31600]
["S-21","ＳＱＵＩＤ磁束計１\n（磁化率測定装置ＭＰＭＳ 1テスラ）","米国カンタムデザイン社","理学研究科","1日当たり\n(設備等利用)",{"$f":"A30&E30","v":"S-211日当たり\n(設備等利用)"},7200,7680,16800]
["S-22","ＳＱＵＩＤ磁束計２\n（磁化率測定装置ＭＰＭＳ 5テスラ）","米国カンタムデザイン社","理学研究科","1日当たり\n(設備等利用)",{"$f":"A31&E31","v":"S-221日当たり\n(設備等利用)"},7200,7680,16800]
["S-23","ＳＱＵＩＤ磁束計３\n（磁化率測定装置ＭＰＭＳ 5.5テスラ）","米国カンタムデザイン社","理学研究科","1日当たり\n(設備等利用)","S-231日当たり\n(設備等利用)",7200,7680,16800]
["S-24","ＳＱＵＩＤ磁束計４\n（磁化率測定装置ＭＰＭＳ 7テスラ）","米国カンタムデザイン社","理学研究科","1日当たり\n(設備等利用)","S-241日当たり\n(設備等利用)",7200,7680,16800]
["A-1","高分解能X線CT装置","㈱島津製作所","農学研究科","1時間当たり\n(設備等利用)","A-11時間当たり\n(設備等利用)",1500]
["A-2","単結晶Ｘ線構造解析装置","㈱リガク","農学研究科","1時間当たり\n(設備等利用)","A-21時間当たり\n(設備等利用)",1500]
["A-3","電界放出形走査電子顕微鏡","㈱日立ハイテクノロジーズ　","農学研究科","1時間当たり\n(設備等利用)","A-31時間当たり\n(設備等利用)",3000,10800,25200]
["A-4","超高感度MALDI-TOF　MS","独国ブルカー・ダルトニクス社","農学研究科","1時間当たり\n(設備等利用)","A-41時間当たり\n(設備等利用)",4000,4700,16000]
["A-5","固体専用超伝導フーリエ変換核磁気共鳴装置","米国バリアンインコーポレーション社","農学研究科","1時間当たり\n(設備等利用)","A-51時間当たり\n(設備等利用)",6000,10600,23100]
["A-6","超伝導フーリエ変換核磁気共鳴装置","米国バリアンインコーポレーション社","農学研究科","1時間当たり\n(設備等利用)","A-61時間当たり\n(設備等利用)",1000,4500,12700]
["A-7","高速液体クロマトグラフ－イオンモビリティ－タンデム四重極リニアイオントラップ型質量分析計","米国エービー・サイエックス社","農学研究科","1時間当たり\n(設備等利用)",{"$f":"A40&E40","v":"A-71時間当たり\n(設備等利用)"},2670,5870,11700]
[null,null,null,null,"1回当たり\n(事前講習)",{"$f":"A40&E41","v":"A-71回当たり\n(事前講習)"},2670,5870,11700]
["A-8","トリプル四重極型ガスクロマトグラフ質量分析計　","㈱島津製作所","農学研究科","1時間当たり\n(設備等利用)","A-81時間当たり\n(設備等利用)",850,1020,2200]
["A-9","シングル四重極誘導結合プラズマ質量分析計","米国サーモフィッシャーサイエンティフィック社","農学研究科","1時間当たり\n(設備等利用)","A-91時間当たり\n(設備等利用)",4830,5580,10500]
["A-10","X線テレビ検査システムS005","㈱島津製作所","農学研究科","1時間当たり\n(設備等利用)",{"$f":"A44&E44","v":"A-101時間当たり\n(設備等利用)"},5900,null,null,"学内において放射線障害予防規程の教育訓練を受けた場合のみ利用可能。"]
["A-11","固体粘弾性測定装置　LOF・9932-001","仏国01dB-Metravib社","農学研究科","1時間当たり\n(設備等利用)",{"$f":"A45&E45","v":"A-111時間当たり\n(設備等利用)"},820,1460,4200,"機器利用に必要な液体窒素については、別途学内単価により利用者へ請求する。"]
[null,null,null,null,"1日当たり\n(設備等利用)",{"$f":"A45&E46","v":"A-111日当たり\n(設備等利用)"},6560,11680,33600]
["A-12","超伝導マグネット　AVANCEⅢ400NルーチンNMR特別仕様","独国ブルカー・バイオスピン社","農学研究科","1時間当たり\n(設備等利用)","A-121時間当たり\n(設備等利用)",300,440,1500]
["A-13","走査型プローブ顕微鏡","㈱島津製作所","農学研究科","1時間当たり\n(設備等利用)","A-131時間当たり\n(設備等利用)",520,810,2000]
["A-14","高速液体クロマトグラフ質量分析計","㈱島津製作所","農学研究科","1時間当たり\n(設備等利用)","A-141時間当たり\n(設備等利用)",700,2600,3600]
[null,null,null,null,"1回当たり\n(事前講習)",{"$f":"A49&E50","v":"A-141回当たり\n(事前講習)"},2100,7800,10800]
["A-15","電子線トモグラフィ装置","日本電子㈱","農学研究科","1時間当たり\n(設備等利用)",{"$f":"A51&E51","v":"A-151時間当たり\n(設備等利用)"},650,5890,10100]
[null,null,null,null,"1日当たり\n(設備等利用)",{"$f":"A51&E52","v":"A-151日当たり\n(設備等利用)"},5200,47120,80800]
[null,null,null,null,"1回当たり\n(事前講習)",{"$f":"A51&E53","v":"A-151回当たり\n(事前講習)"},1940,17670,30200]
["A-16","QuantStudio12KFlex　リアルタイムPCRシステム","米国ライフテクノロジーズ社","農学研究科","1回当たり\n(設備等利用)",{"$f":"A54&E54","v":"A-161回当たり\n(設備等利用)"},2000,3120,16400]
["A-17","微量天然化合物高速液体クロマトグラフ質量分析装置システム　LCMS-8030","㈱島津製作所","農学研究科","1時間当たり\n(設備等利用)",{"$f":"A55&E55","v":"A-171時間当たり\n(設備等利用)"},250,820,2100]
["A-18","高速液体クロマトグラフ質量分析計システム","㈱島津製作所","農学研究科","1時間当たり\n(設備等利用)","A-181時間当たり\n(設備等利用)",490,610,1300]
["A-19","水晶振動子マイクロバランス応用・分子間相互作用解析システム","瑞国Biolin Scientific社","農学研究科","1時間当たり\n(設備等利用)",{"$f":"A57&E57","v":"A-191時間当たり\n(設備等利用)"},1990,3630,9100]
["A-20","共焦点レーザ走査型顕微鏡　FV1200","オリンパス㈱","農学研究科","1時間当たり\n(設備等利用)","A-201時間当たり\n(設備等利用)",3610,6330,11600]
["A-22","ＦＴ／ＩＲ－６６００　フーリエ変換赤外分光光度計（ｔｙｐｅ　ＶＦＭ）","日本分光㈱","農学研究科","1日当たり\n(設備等利用)","A-221日当たり\n(設備等利用)",7600,12800,26000]
["A-23","ＡＣＱＵＩＴＹ　ＵＰＬＣ　ＰＤＡ／Ｘｅｖｏ　Ｑｔｏｆ　ＭＳ　ＫＮ　システム　","米国ウォーターズテクノロジーズ社","農学研究科","1時間当たり\n(設備等利用)",{"$f":"A60&E60","v":"A-231時間当たり\n(設備等利用)"},4100,4100,9500]
["A-24","超臨界流体リモートシステム","日本分光㈱","農学研究科","1時間当たり\n(設備等利用)","A-241時間当たり\n(設備等利用)",1100,1310,10300]
[null,null,null,null,"1日当たり\n(設備等利用)",{"$f":"A61&E62","v":"A-241日当たり\n(設備等利用)"},5500,6550,51500]
["A-25","高分解能質量分析計システム","米国サーモフィッシャーサイエンティフィック社","農学研究科","1日当たり\n(設備等利用)",{"$f":"A63&E63","v":"A-251日当たり\n(設備等利用)"},5000,24060,55200]
["A-26","ＣＦＸ　Ｃｏｎｎｅｃｔ　リアルタイムＰＣＲ　解析システム","米国バイオ・ラッド・ラボラトリーズ社","農学研究科","1時間当たり\n(設備等利用)","A-261時間当たり\n(設備等利用)",350,490,2200]
["B-1","生命科学組換え体育成温室",null,"生命科学研究科","京都大学大学院生命科学研究科生命動態共用研究施設共用研究機器利用内規の定めに従う"]
[]
["１．上記表中の単価は、利用単位あたりの設備等利用又は事前講習に係る金額（消費税相当額を含む。）であり、これにそれぞれの利用単位数を乗じた金額の合計額を"]
["　設備等の利用料金とする。"]
["２．１時間未満の設備等利用及び１時間を超える設備等利用に係る１時間未満の端数については、それぞれ１時間の設備等利用として、利用料を算出するものとする。"]
["３．第３条第４号に掲げる者の単価は、当該者の所属・身分等を勘案のうえ、拠点長が指示するものとする。"]
[]
[]
["別表３.技術補助等における技術料"]
[]
["技術補助等を行う者",null,"利用単位","単価"]
["RA",null,"1時間当たり",1400]
["教職員","（技術職員、助教、講師、准教授、教授等）",null,4400]
[]
["１．技術補助等とは、利用者からの依頼等に基づいて行う下記の業務とする。"]
["（1）設備等保有研究室等のRA又は教職員が、利用時に立ち会って適宜行う操作等の補助"]
["（2）設備等保有研究室等の教職員との技術相談"]
["２．上記表中の単価は、１時間当たりの技術補助等に係る金額（消費税相当額を含む。）であり、これに利用単位数を乗じた金額を技術補助等における技術料とする。"]
["３．１時間未満の技術補助等及び１時間を超える技術補助等に係る１時間未満の端数については、それぞれ１時間の技術補助等として技術料を算出するものとする。"]

{"sheet":"共同利用承認書","index":2,"n_rows":33,"n_cols":9,"rows_kept":33,"cut":false,"hidden":true,"merged":[[18,1,18,2],[19,3,19,4],[19,5,19,6],[20,1,20,2],[20,5,20,6],[21,4,21,8],[32,4,34,8],[22,3,22,4],[27,1,27,8],[28,1,28,8],[29,1,29,8],[30,1,30,8],[14,1,14,8],[15,1,15,8],[16,1,16,8],[3,7,3,8],[2,7,2,8],[5,1,5,2],[10,1,10,8],[13,1,13,8]]}
[null,null,null,null,null,null,null,"承認番号：",{"$f":"'使用簿（管理責任者用）'!A5","v":0}]
[]
[null,null,null,null,null,null,null,"事務連絡"]
[null,null,null,null,null,null,null,"●●年●●月●●日"]
[]
[null,{"$f":"共同利用申請書!B11:H11","v":0},null,"殿"]
[]
[null,null,null,null,null,null,null,null,"京都大学北部キャンパス機器分析拠点　拠点長"]
[]
[]
[null,"共同利用承認書"]
[]
[]
[null,"　●●年●●月●●日に申請のありました下記共同利用について、承認します。"]
[null,"　設備等の利用に当たっては、該当設備等の利用方法について十分に確認し、認識したうえで利用してください。"]
[]
[null,"記"]
[]
[null,"利用日時：",null,{"$f":"共同利用申請書!B15","v":"00:00:00"},{"$f":"共同利用申請書!F15","v":"00:00:00"},"～",{"$f":"共同利用申請書!I15","v":"00:00:00"},{"$f":"共同利用申請書!M15","v":"00:00:00"}]
[]
[null,"利用設備：",null,"（設備等番号）",{"$f":"共同利用申請書!D14","v":0}]
[null,null,null,"（設備等名称）",{"$f":"共同利用申請書!H14","v":{"$error":"#N/A"}}]
[]
[]
[]
[]
[null,"※利用にあたっての留意点"]
[null,"　・利用料は実績時間に基づき機器利用後に請求いたします。"]
[null,"　・申請時間は変更の無いようご利用ください。"]
[null,"　・申請時間の変更が必要な場合は、設備等の担当者に申し出てください。\n　　なお、ご希望に添えない場合もありますのでご了承ください。"]
[null,"　・その他、ご不明な点がありましたら設備等の担当者もしくは拠点運営推進室までお問い合わせください。"]
[]
[null,null,null,null,"担　当：北部キャンパス機器分析拠点　拠点運営推進室\nT  E  L：075-753-3607\ne-mail：nocias-kyotenjimu@mail2.adm.kyoto-u.ac.jp"]

{"sheet":"使用簿（管理責任者用）","index":3,"n_rows":38,"n_cols":14,"rows_kept":38,"cut":false,"hidden":true,"merged":[[12,6,12,7],[11,6,11,8],[12,8,13,8],[11,0,13,0],[12,1,12,2],[12,4,13,4],[12,5,13,5],[11,1,11,5],[2,12,3,12],[2,13,3,13],[2,0,3,0],[2,2,3,2],[2,3,3,3],[2,4,3,4],[2,5,3,5],[2,6,3,6],[2,7,2,8],[2,9,3,9],[2,10,3,10],[2,11,3,11],[36,0,36,1],[32,0,32,1],[33,0,33,1],[34,0,34,1],[35,0,35,1]]}
[]
["■管理簿（研究室用）※入力不要",null,null,null,null,null,null,null,null,null,null,null,"（単位：円）"]
["承認番号","利用者区分","所属機関又は組織等","利用申請者","職名","設備等番号","設備等名称","利用期間【実績】",null,"設備利用料","技術料","事前講習料","消耗品費等","利用料計"]
[null,"（学内or学外）",null,null,null,null,null,"開始日","終了日"]
[null,null,{"$f":"共同利用申請書!D9","v":0},{"$f":"共同利用申請書!B11","v":0},{"$f":"共同利用申請書!K11","v":0},{"$f":"共同利用申請書!D14","v":0},{"$f":"共同利用申請書!H14","v":{"$error":"#N/A"}},{"$f":"MIN(A15:A24)","v":"00:00:00"},{"$f":"MAX(A15:A24)","v":"00:00:00"},{"$f":"F25","v":0},{"$f":"I25","v":0},null,{"$f":"E37","v":0},{"$f":"SUM(J5:M5)","v":0}]
[]
[null,"学内",null,null,null,{"$f":"F5&'別表１、３'!L5","v":"01回当たり\n(事前講習)"}]
[null,"学術機関"]
[null,"民間機関"]
["■使用簿　※要入力"]
["（１）設備利用及び技術補助"]
["利用日","設備利用",null,null,null,null,"技術補助等"]
[null,"利用時間【実績】",null,"利用時間","利用単位","設備利用料（円）","技術補助等【実績】",null,"技術料（円）"]
[null,"開始時間","終了時間","（合計）",null,null,"補助者区分","所要時間"]
[null,null,null,{"$f":"VALUE(CEILING(C15-B15,\"1:00\")*24)","v":0},null,{"$f":"VLOOKUP($F$5&E15,'別表１、３'!$F$5:$I$65,MATCH('使用簿（管理責任者用）'!$B$5,'別表１、３'!$F$5:$I$5,0),0)*IF(E15=$E$27,D15,1)","v":{"$error":"#N/A"}},null,null,{"$f":"ROUND(VLOOKUP(G15,'別表１、３'!$A$76:$D$77,4,0)*'使用簿（管理責任者用）'!H15,0)","v":{"$error":"#N/A"}}]
[null,null,null,{"$f":"VALUE(CEILING(C16-B16,\"1:00\")*24)","v":0},null,{"$f":"VLOOKUP($F$5&E16,'別表１、３'!$F$5:$I$65,MATCH('使用簿（管理責任者用）'!$B$5,'別表１、３'!$F$5:$I$5,0),0)*IF(E16=$E$27,D16,1)","v":{"$error":"#N/A"}},null,null,{"$f":"ROUND(VLOOKUP(G16,'別表１、３'!$A$76:$D$77,4,0)*'使用簿（管理責任者用）'!H16,0)","v":{"$error":"#N/A"}}]
[null,null,null,0,null,{"$f":"VLOOKUP($F$5&E17,'別表１、３'!$F$5:$I$65,MATCH('使用簿（管理責任者用）'!$B$5,'別表１、３'!$F$5:$I$5,0),0)*IF(E17=$E$27,D17,1)","v":{"$error":"#N/A"}},null,null,{"$f":"ROUND(VLOOKUP(G17,'別表１、３'!$A$76:$D$77,4,0)*'使用簿（管理責任者用）'!H17,0)","v":{"$error":"#N/A"}}]
[null,null,null,0,null,{"$f":"VLOOKUP($F$5&E18,'別表１、３'!$F$5:$I$65,MATCH('使用簿（管理責任者用）'!$B$5,'別表１、３'!$F$5:$I$5,0),0)*IF(E18=$E$27,D18,1)","v":{"$error":"#N/A"}},null,null,{"$f":"ROUND(VLOOKUP(G18,'別表１、３'!$A$76:$D$77,4,0)*'使用簿（管理責任者用）'!H18,0)","v":{"$error":"#N/A"}}]
[null,null,null,0,null,{"$f":"VLOOKUP($F$5&E19,'別表１、３'!$F$5:$I$65,MATCH('使用簿（管理責任者用）'!$B$5,'別表１、３'!$F$5:$I$5,0),0)*IF(E19=$E$27,D19,1)","v":{"$error":"#N/A"}},null,null,{"$f":"ROUND(VLOOKUP(G19,'別表１、３'!$A$76:$D$77,4,0)*'使用簿（管理責任者用）'!H19,0)","v":{"$error":"#N/A"}}]
[null,null,null,0,null,{"$f":"VLOOKUP($F$5&E20,'別表１、３'!$F$5:$I$65,MATCH('使用簿（管理責任者用）'!$B$5,'別表１、３'!$F$5:$I$5,0),0)*IF(E20=$E$27,D20,1)","v":{"$error":"#N/A"}},null,null,{"$f":"ROUND(VLOOKUP(G20,'別表１、３'!$A$76:$D$77,4,0)*'使用簿（管理責任者用）'!H20,0)","v":{"$error":"#N/A"}}]
[null,null,null,0,null,{"$f":"VLOOKUP($F$5&E21,'別表１、３'!$F$5:$I$65,MATCH('使用簿（管理責任者用）'!$B$5,'別表１、３'!$F$5:$I$5,0),0)*IF(E21=$E$27,D21,1)","v":{"$error":"#N/A"}},null,null,{"$f":"ROUND(VLOOKUP(G21,'別表１、３'!$A$76:$D$77,4,0)*'使用簿（管理責任者用）'!H21,0)","v":{"$error":"#N/A"}}]
[null,null,null,0,null,{"$f":"VLOOKUP($F$5&E22,'別表１、３'!$F$5:$I$65,MATCH('使用簿（管理責任者用）'!$B$5,'別表１、３'!$F$5:$I$5,0),0)*IF(E22=$E$27,D22,1)","v":{"$error":"#N/A"}},null,null,{"$f":"ROUND(VLOOKUP(G22,'別表１、３'!$A$76:$D$77,4,0)*'使用簿（管理責任者用）'!H22,0)","v":{"$error":"#N/A"}}]
[null,null,null,0,null,{"$f":"VLOOKUP($F$5&E23,'別表１、３'!$F$5:$I$65,MATCH('使用簿（管理責任者用）'!$B$5,'別表１、３'!$F$5:$I$5,0),0)*IF(E23=$E$27,D23,1)","v":{"$error":"#N/A"}},null,null,{"$f":"ROUND(VLOOKUP(G23,'別表１、３'!$A$76:$D$77,4,0)*'使用簿（管理責任者用）'!H23,0)","v":{"$error":"#N/A"}}]
[null,null,null,0,null,{"$f":"VLOOKUP($F$5&E24,'別表１、３'!$F$5:$I$65,MATCH('使用簿（管理責任者用）'!$B$5,'別表１、３'!$F$5:$I$5,0),0)*IF(E24=$E$27,D24,1)","v":{"$error":"#N/A"}},null,null,{"$f":"ROUND(VLOOKUP(G24,'別表１、３'!$A$76:$D$77,4,0)*'使用簿（管理責任者用）'!H24,0)","v":{"$error":"#N/A"}}]
[{"$f":"COUNTA(A15:A24)","v":0},null,null,{"$f":"SUM(D15:D24)","v":0},null,{"$f":"SUMIF(F15:F24,\"<>#N/A\")","v":0},null,{"$f":"SUM(H15:H24)","v":0},{"$f":"SUMIF(I15:I24,\"<>#N/A\")","v":0}]
["※行が足りない場合は、行全体をコピーのうえ挿入してください。"]
[null,null,null,null,"1時間当たり\n(設備等利用)"]
[null,null,null,null,"1日当たり\n(設備等利用)"]
[null,null,null,null,"1回当たり\n(設備等利用)"]
[]
["（２）消耗品費等"]
["　　【注意】料金規程の算定において消耗品の積算に含めず、別途請求することとなっている案件のみ記載"]
["内訳",null,"単価（税込み）","数量","計"]
[null,null,null,null,{"$f":"C34*D34","v":0}]
[null,null,null,null,{"$f":"C35*D35","v":0}]
[null,null,null,null,0]
[null,null,null,null,{"$f":"SUM(E34:E36)","v":0}]
["※行が足りない場合は、行全体をコピーのうえ挿入してください。"]

{"sheet":"管理表転記用","index":4,"n_rows":17,"n_cols":33,"rows_kept":17,"cut":false,"hidden":true,"merged":[[0,26,1,26],[0,21,0,25],[0,15,1,15],[0,18,1,18],[0,17,1,17],[0,19,1,19],[0,16,1,16],[0,20,1,20],[0,11,0,12],[0,0,1,0],[0,2,1,2],[0,3,1,3],[0,4,1,4],[0,5,1,5],[0,6,1,6],[0,7,0,10]]}
["承認番号","利用者区分","所属機関又は組織等","利用申請者","職名","設備等番号","設備等名称","利用期間/時間【申請時】",null,null,null,"利用期間【実績】",null,"利用日数","利用時間","設備利用料","技術料","事前講習料","消耗品費等","利用料計","管理部局","予算区分",null,null,null,null,"備考","➡以下、利用者及び請求先情報"]
[null,"（学内or学外）",null,null,null,null,null,"開始日","開始時間","終了日","終了時間","開始日","終了日","（合計）","（合計）",null,null,null,null,null,null,"経費名称","予算科目（運営費の場合）","予算部署（運営費の場合）","PJコード","請求処理方法",null,"所属機関住所","電話番号","メールアドレス","請求先住所等","請求先電話番号","請求先メールアドレス"]
[{"$f":"'使用簿（管理責任者用）'!A5","v":0},{"$f":"'使用簿（管理責任者用）'!B5","v":0},{"$f":"共同利用申請書!D9","v":0},{"$f":"共同利用申請書!B11","v":0},{"$f":"共同利用申請書!K11","v":0},{"$f":"共同利用申請書!D14","v":0},{"$f":"共同利用申請書!H14","v":{"$error":"#N/A"}},{"$f":"共同利用申請書!B15","v":"00:00:00"},{"$f":"共同利用申請書!F15","v":"00:00:00"},{"$f":"共同利用申請書!I15","v":"00:00:00"},{"$f":"共同利用申請書!M15","v":"00:00:00"},{"$f":"'使用簿（管理責任者用）'!H5","v":"00:00:00"},{"$f":"'使用簿（管理責任者用）'!I5","v":"00:00:00"},{"$f":"'使用簿（管理責任者用）'!A25","v":0},{"$f":"'使用簿（管理責任者用）'!D25","v":0},{"$f":"'使用簿（管理責任者用）'!J5","v":0},{"$f":"'使用簿（管理責任者用）'!K5","v":0},{"$f":"'使用簿（管理責任者用）'!L5","v":0},{"$f":"'使用簿（管理責任者用）'!M5","v":0},{"$f":"SUM(P3,Q3,R3,S3)","v":0},{"$f":"VLOOKUP(F3,'別表１、３'!$A$6:$D$65,4,0)","v":{"$error":"#N/A"}},null,{"$f":"共同利用申請書!H20","v":0},{"$f":"共同利用申請書!N20","v":0},{"$f":"共同利用申請書!H22","v":0},null,null,{"$f":"共同利用申請書!D10","v":0},{"$f":"共同利用申請書!B12","v":0},{"$f":"共同利用申請書!K12","v":0},{"$f":"共同利用申請書!E17","v":0},{"$f":"共同利用申請書!D18","v":0},{"$f":"共同利用申請書!L18","v":0}]
[]
[]
[]
[]
[null,null,null,null,null,null,null,null,null,null,null,null,null,null,null,null,null,null,null,null,null,"大学運営費",null,null,null,"予算振替"]
[null,null,null,null,null,null,null,null,null,null,null,null,null,null,null,null,null,null,null,null,null,"大学運営費（機能強化経費）",null,null,null,"費用付替"]
[null,null,null,null,null,null,null,null,null,null,null,null,null,null,null,null,null,null,null,null,null,"大学運営費（特殊要因経費）",null,null,null,"請求書発行"]
[null,null,null,null,null,null,null,null,null,null,null,null,null,null,null,null,null,null,null,null,null,"大学運営費（その他）"]
[null,null,null,null,null,null,null,null,null,null,null,null,null,null,null,null,null,null,null,null,null,"寄附金"]
[null,null,null,null,null,null,null,null,null,null,null,null,null,null,null,null,null,null,null,null,null,"科学研究費助成事業等"]
[null,null,null,null,null,null,null,null,null,null,null,null,null,null,null,null,null,null,null,null,null,"受託研究等"]
[null,null,null,null,null,null,null,null,null,null,null,null,null,null,null,null,null,null,null,null,null,"間接経費"]
[null,null,null,null,null,null,null,null,null,null,null,null,null,null,null,null,null,null,null,null,null,"機関経理補助金"]
[null,null,null,null,null,null,null,null,null,null,null,null,null,null,null,null,null,null,null,null,null,"その他"]